BEGIN:VCALENDAR
VERSION:2.0
PRODID:-//Clementine Montessori School - ECPv6.15.0.1//NONSGML v1.0//EN
CALSCALE:GREGORIAN
METHOD:PUBLISH
X-WR-CALNAME:Clementine Montessori School
X-ORIGINAL-URL:https://www.clementinemontessori.org
X-WR-CALDESC:Events for Clementine Montessori School
REFRESH-INTERVAL;VALUE=DURATION:PT1H
X-Robots-Tag:noindex
X-PUBLISHED-TTL:PT1H
BEGIN:VTIMEZONE
TZID:America/New_York
BEGIN:DAYLIGHT
TZOFFSETFROM:-0500
TZOFFSETTO:-0400
TZNAME:EDT
DTSTART:20250309T070000
END:DAYLIGHT
BEGIN:STANDARD
TZOFFSETFROM:-0400
TZOFFSETTO:-0500
TZNAME:EST
DTSTART:20251102T060000
END:STANDARD
END:VTIMEZONE
BEGIN:VEVENT
DTSTART;TZID=America/New_York:20250321T083000
DTEND;TZID=America/New_York:20250321T150000
DTSTAMP:20260420T063453
CREATED:20240911T005523Z
LAST-MODIFIED:20251017T202015Z
UID:10000038-1742545800-1742569200@www.clementinemontessori.org
SUMMARY:CLOSED (Parent Conferences)
DESCRIPTION:
URL:https://www.clementinemontessori.org/event/closed-parent-conferences-3/
CATEGORIES:Closures
END:VEVENT
END:VCALENDAR